BEGIN:VCALENDAR
VERSION:2.0
PRODID:-//https://www.pascalerocard.net///NONSGML kigkonsult.se iCalcreator 2.10.15//
METHOD:PUBLISH
BEGIN:VEVENT
UID:20260421T105355CEST-1687wouL5L@https://www.pascalerocard.net/
DTSTAMP:20260421T085355Z
DESCRIPTION:Pascale Rocard exposera au GRAND REX le plus beau cinéma du Mon
 de\, lieu mythique du patrimoine française de 1932 à nos jours pour un évè
 nement exceptionnel le 14 Février 20925 en l'honneur des amoureux et de la
  Saint Valentin.\nPour la première fois une création photographique sera r
 eprésentée dans un écrin de Cinéma.Pascale Rocard remercie le Grand Rex et
  tout particulièrement Alexandre Hellmann. https://www.pascalerocard.net/a
 genda/au-programme/event/4-lobjet-de-votre-amour-a-la-ferme-de-billy
DTSTART:20250910T123000Z
DTEND:20250912T123000Z
LOCATION:Ferme de Billy (Chapelle De Lortial)
SUMMARY:L'Objet de votre Amour à La Ferme de Billy
URL:https://www.pascalerocard.net/agenda/au-programme/event/4-lobjet-de-vot
 re-amour-a-la-ferme-de-billy
END:VEVENT
END:VCALENDAR
